BEGIN:VCALENDAR
VERSION:2.0
CALSCALE:GREGORIAN
BEGIN:VEVENT
SUMMARY:Candle Lit Yin Yoga - Teacher Hannah
DTSTART;TZID=Europe/Amsterdam:20260510T160000
DTEND;TZID=Europe/Amsterdam:20260510T170000
LOCATION:Oudegracht 366
DESCRIPTION: Yin Yoga is gericht op ontspanning, herstel van het bindweefsel en het soepel maken van gewrichten. Maak tijdens de diepe ontspanning ruimte in je hoofd en ruimte in je lijf. Laat de energie weer vrij stromen na deze verjongingskuur voor zowel je lijf als je hoofd.
De Yin Yoga is toegankelijk voor iedereen.
STATUS:CONFIRMED
SEQUENCE:0
END:VEVENT
END:VCALENDAR