BEGIN:VCALENDAR
VERSION:2.0
CALSCALE:GREGORIAN
BEGIN:VEVENT
SUMMARY:Hatha Flow - Buiten
DTSTART;TZID=Europe/Amsterdam:20180628T183000
DTEND;TZID=Europe/Amsterdam:20180628T193000
LOCATION:Oudegracht 23
DESCRIPTION: If you like to move it, move it! In deze zweterige vinyasa practice staat de adem centraal. Voel hoe alle to do lijstjes van je afglijden tijdens deze intensieve yoga practice.
Begin je net met yoga? Dan is deze les misschien minder geschikt voor jou.

Deze les doen we buiten. We verzamelen tussen 18:15-18:30 bij Oudegracht 245 (het oude Tivoli gebouw).
STATUS:CONFIRMED
SEQUENCE:0
END:VEVENT
END:VCALENDAR