BEGIN:VCALENDAR
VERSION:2.0
CALSCALE:GREGORIAN
BEGIN:VEVENT
SUMMARY:Zwangerschapsyoga
DTSTART;TZID=Europe/Amsterdam:20260407T190000
DTEND;TZID=Europe/Amsterdam:20260407T201500
LOCATION:Studio Sama
DESCRIPTION: Met zwangerschapsyoga sta je bewust stil bij het kindje dat groeit in je buik en bij het toekomstige ouderschap. Er worden klassieke yoga-oefeningen gedaan die zijn aangepast aan de mogelijkheden van de zwangere vrouw. De yoga-oefeningen helpen je om het lichaam soepel en sterk te houden. En om in contact te komen met het vertrouwen in je eigen lichaam en je eigen kracht om het kindje te dragen en te baren.

De zwangerschapsyoga is een doorlopende cursus waarbij er elke laatste les van de maand een partnerles is.
STATUS:CONFIRMED
SEQUENCE:0
END:VEVENT
END:VCALENDAR