BEGIN:VCALENDAR
VERSION:2.0
CALSCALE:GREGORIAN
BEGIN:VEVENT
SUMMARY:yin yoga
DTSTART;TZID=Europe/Paris:20251104T200000
DTEND;TZID=Europe/Paris:20251104T210000
LOCATION:61 rue de rougeau 77176 Savigny le Temple (parking de l&#039;église Catholique Tibériade) garez-vous, puis traversez la route, vous verrez un portail vert. Entrez le studio se trouve à votre gauche. Prévoir 15 min avant le cours
DESCRIPTION: Le yin yoga est un style de yoga doux lent où les postures sont tenues longtemps(3 à 5 minutes). Il vise à étirer les tissus profonds comme les fascias, les ligaments et les articulations, tout en favorisant la relaxation et la méditation.
STATUS:CONFIRMED
SEQUENCE:0
END:VEVENT
END:VCALENDAR