BEGIN:VCALENDAR
VERSION:2.0
CALSCALE:GREGORIAN
BEGIN:VEVENT
SUMMARY:Yoga débutant les fondations
DTSTART;TZID=Europe/Paris:20260405T103000
DTEND;TZID=Europe/Paris:20260405T113000
LOCATION:studio TK 61 rue de rougeau 77176 Savigny le Temple (parking de l&#039;église Catholique Tibériade)
DESCRIPTION: Cours débutant 
Les bases
STATUS:CONFIRMED
SEQUENCE:0
END:VEVENT
END:VCALENDAR