BEGIN:VCALENDAR
VERSION:2.0
CALSCALE:GREGORIAN
BEGIN:VEVENT
SUMMARY:Prana Réveil
DTSTART;TZID=Europe/Paris:20221111T074500
DTEND;TZID=Europe/Paris:20221111T090000
LOCATION:Studio
DESCRIPTION: Dans ce cours nous explorerons surtout la respiration et la médiration, ainsi que des mouvements simples et précis pour commencer la journée.
STATUS:CONFIRMED
SEQUENCE:0
END:VEVENT
END:VCALENDAR