BEGIN:VCALENDAR
VERSION:2.0
CALSCALE:GREGORIAN
BEGIN:VEVENT
SUMMARY:LA NOUBA - 1 an du studio
DTSTART;TZID=Europe/Paris:20221109T193000
DTEND;TZID=Europe/Paris:20221109T223000
LOCATION:
DESCRIPTION: Préviens moi par texto si tu souhaites fêter les 1 an du studio
STATUS:CONFIRMED
SEQUENCE:0
END:VEVENT
END:VCALENDAR