BEGIN:VCALENDAR
VERSION:2.0
CALSCALE:GREGORIAN
BEGIN:VEVENT
SUMMARY:Yin Yang
DTSTART;TZID=Europe/Amsterdam:20170823T193000
DTEND;TZID=Europe/Amsterdam:20170823T204500
LOCATION:Boerderij Landzicht
DESCRIPTION: les wordt gegeven door Marlies
STATUS:CONFIRMED
SEQUENCE:0
END:VEVENT
END:VCALENDAR