BEGIN:VCALENDAR
VERSION:2.0
CALSCALE:GREGORIAN
BEGIN:VEVENT
SUMMARY:Deze week nog normale lesrooster
DTSTART;TZID=Europe/Amsterdam:20170717T110000
DTEND;TZID=Europe/Amsterdam:20170717T120000
LOCATION:Boerderij Landzicht
DESCRIPTION: Deze week is er nog gewoon les volgens het normale rooster.Het vakantierooster gaat in vanaf 24 juli
STATUS:CONFIRMED
SEQUENCE:0
END:VEVENT
END:VCALENDAR