BEGIN:VCALENDAR
VERSION:2.0
CALSCALE:GREGORIAN
BEGIN:VEVENT
SUMMARY:Hatha Yoga/CAY
DTSTART;TZID=Europe/Amsterdam:20180801T091500
DTEND;TZID=Europe/Amsterdam:20180801T103000
LOCATION:Lagerstraat 15
DESCRIPTION: DE beide ochtendlessen zijn samengevoegd. In deze les (Saswitha Yoga) besteden we veel aandacht aan de adem, kracht en ontspanning maar gebruiken we ook het stripje uit de critical alignment yoga.
STATUS:CONFIRMED
SEQUENCE:0
END:VEVENT
END:VCALENDAR