BEGIN:VCALENDAR
VERSION:2.0
CALSCALE:GREGORIAN
BEGIN:VEVENT
SUMMARY:Critical Alignment Yoga
DTSTART;TZID=Europe/Amsterdam:20180425T101500
DTEND;TZID=Europe/Amsterdam:20180425T113000
LOCATION:Boerderij Landzicht
DESCRIPTION: Critical Alignment. Deze les wordt vervangen door Jacqueline vanwege vakantie van Ilja
STATUS:CONFIRMED
SEQUENCE:0
END:VEVENT
END:VCALENDAR