BEGIN:VCALENDAR
VERSION:2.0
CALSCALE:GREGORIAN
BEGIN:VEVENT
SUMMARY:extra lange les Hatha Yoga, Reis door de Chakra&#039;s
DTSTART;TZID=Europe/Amsterdam:20171227T090000
DTEND;TZID=Europe/Amsterdam:20171227T113000
LOCATION:Boerderij Landzicht
DESCRIPTION: In elke Yogales doen we Asana&#039;s (houdingen). Je doet de Asana&#039;s misschien om gezonder te worden/blijven, soepeler of om meer ontspanning te ervaren. Maar de Asana&#039;s doen meer dan dat alleen. In deze extra lange les verbinden we de Asana&#039;s met de Chakra&#039;s ( energiecentra) om zo te ervaren dat elk chakra maar ook elke Yogahouding een andere energie in je vertegenwoordigd. Ik geef deze les samen met Marij Duijsters van Colourful Energies, zij zal haar visie op de chakra&#039;s uitleggen en ook wat meer vertellen over de kleuren en emoties die daarbij horen. Kosten voor deze lange les zijn:€12 (leden) €25,00 (niet leden) of 2 strippen van je 10 rittenkaart.
STATUS:CONFIRMED
SEQUENCE:0
END:VEVENT
END:VCALENDAR