BEGIN:VCALENDAR
VERSION:2.0
CALSCALE:GREGORIAN
BEGIN:VEVENT
SUMMARY:Hatha Yoga for Strength &amp; Release (Saar) - STUDIO 2
DTSTART;TZID=Europe/Brussels:20260422T201500
DTEND;TZID=Europe/Brussels:20260422T211500
LOCATION:Studio Zuid
DESCRIPTION: Ontdek de kracht van eenvoud in deze Hatha yogalessen, waar inspanning en ontspanning elkaar afwisselen en je stap voor stap werkt aan kracht, stabiliteit en lichaamsbewustzijn.
STATUS:CONFIRMED
SEQUENCE:0
END:VEVENT
END:VCALENDAR