BEGIN:VCALENDAR
VERSION:2.0
CALSCALE:GREGORIAN
BEGIN:VEVENT
SUMMARY:Yin (Elisabeth) - STUDIO 1
DTSTART;TZID=Europe/Brussels:20260511T201500
DTEND;TZID=Europe/Brussels:20260511T213000
LOCATION:Studio Zuid - Frederik Lintsstraat 45 - Leuven
DESCRIPTION: 
STATUS:CONFIRMED
SEQUENCE:0
END:VEVENT
END:VCALENDAR