BEGIN:VCALENDAR
VERSION:2.0
CALSCALE:GREGORIAN
BEGIN:VEVENT
SUMMARY:Morning Hatha Yoga (Eva/Lucie) - ZOOM 2
DTSTART;TZID=Europe/Brussels:20260516T104500
DTEND;TZID=Europe/Brussels:20260516T114500
LOCATION:Studio Zuid
DESCRIPTION: 
STATUS:CONFIRMED
SEQUENCE:0
END:VEVENT
END:VCALENDAR