BEGIN:VCALENDAR
VERSION:2.0
CALSCALE:GREGORIAN
BEGIN:VEVENT
SUMMARY:Do-In Yoga (Peter Plasqui) - STUDIO 1
DTSTART;TZID=Europe/Brussels:20260226T193000
DTEND;TZID=Europe/Brussels:20260226T204500
LOCATION:Studio Zuid
DESCRIPTION: 
STATUS:CONFIRMED
SEQUENCE:0
END:VEVENT
END:VCALENDAR