BEGIN:VCALENDAR
VERSION:2.0
CALSCALE:GREGORIAN
BEGIN:VEVENT
SUMMARY:Meridiaanyoga (Peter Plasqui) - STUDIO 3
DTSTART;TZID=Europe/Brussels:20260509T094500
DTEND;TZID=Europe/Brussels:20260509T104500
LOCATION:Studio Zuid
DESCRIPTION: Meridiaanyoga of Do-in is een Japanse yogavorm en zelfmassage gebaseerd op de traditionele Chinese geneeskunde en de 5 elementen. De oefeningen met beweging, ademhaling en aandacht helpen spanning loslaten, energie laten stromen en het lichaamsbewustzijn verdiepen.
STATUS:CONFIRMED
SEQUENCE:0
END:VEVENT
END:VCALENDAR