BEGIN:VCALENDAR
VERSION:2.0
CALSCALE:GREGORIAN
BEGIN:VEVENT
SUMMARY:Spierkracht (Inge) - STUDIO 3
DTSTART;TZID=Europe/Brussels:20260514T110000
DTEND;TZID=Europe/Brussels:20260514T120000
LOCATION:Studio Zuid
DESCRIPTION: Verbeter je kracht en balans met krachttraining voor 55+ (iedereen welkom)!
STATUS:CONFIRMED
SEQUENCE:0
END:VEVENT
END:VCALENDAR