BEGIN:VCALENDAR
VERSION:2.0
CALSCALE:GREGORIAN
BEGIN:VEVENT
SUMMARY:Extra lange ontspannende les met yin yoga, meditatie, muziek, healing &#039;Terug in je eigen energie&#039; door Eva Mariam en Suzanne
DTSTART;TZID=Europe/Amsterdam:20241013T100000
DTEND;TZID=Europe/Amsterdam:20241013T120000
LOCATION:Dorpsstraat 42
DESCRIPTION: Samen met healing medium en zangeres Eva Mariam een speciale lange les van 2 uur  ‘Terug in je eigen energie’ waarbij we de focus leggen op zelfliefde en zelf compassie. 
Met heerlijke, diep ontspannende yin yoga houdingen, we verblijven lang in de houdingen en zullen het je zo comfortabel mogelijk maken, met meditatie, helende muziek en handopleggingendoor Eva. Zo hernieuwen we vanuit diepe ontspanning en verbinding met jezelf, je vitale energie. Zo bouw je niet alleen je fysieke vitaliteit op, maar werk je tegelijkertijd ook aan je energetische balans. Je bent van harte welkom.
STATUS:CONFIRMED
SEQUENCE:0
END:VEVENT
END:VCALENDAR