BEGIN:VCALENDAR
VERSION:2.0
CALSCALE:GREGORIAN
BEGIN:VEVENT
SUMMARY:満席→増席→満席【オンライン】骨盤スリムヨガ (お子様連れ可)
DTSTART;TZID=America/Chicago:20230206T093000
DTEND;TZID=America/Chicago:20230206T110000
LOCATION:ONLINE YOGA
DESCRIPTION: 【骨盤スリムヨガ】お子様連れ🆗
レベル: ☆☆☆
※ こちらはオンラインレッスンとなります。
 
 
骨盤調整に特化した
女性の体めぐりを整えるヨガ！
 
 
骨盤の歪みを調整し
日頃のちょっとした不調改善を
可能にするヨガをお伝えしています^^
 
・肩こり・腰痛
・冷え性・むくみ
・頭痛
・姿勢改善
・美しいボディライン・ダイエット
・月経に伴うPMSや生理痛・生理不順緩和
・尿もれ改善
・産後の体型戻し
 
 　
また婦人科系機能を活性化させ
妊活ヨガとしても
注目を集めています。
 
女性にとても大切な
骨盤底筋群を鍛えることで
インナーマッスルや
普段使わない筋肉にも
しっかりアプローチ！
 
 
『骨盤調整』x『ピラティス』x『腸ほぐし』
 
これらのメソッドを用いて
月経痛-妊活-産前-産後-子育て期-更年期
女性のライフステージに
寄り添うヨガレッスンです^^
　
 
「心と体のバランスを整えるヨガ」
　
 
ぜひご自身のお身体で実感してみてください♡
 
 
＜注意事項＞
・Zoomを使ったオンラインレッスンとなります
　(レッスン前日のリマインダメール内にZoomリンクの記載があります)
・初心者様歓迎
・お子様づれ歓迎
・産後1ヶ月からご参加可能
　(産後１ヶ月検診で問題がない方のみ)
・妊娠中の方もご参加OK
　(主治医の承諾必須。事前にお知らせください)
 
＜持ち物＞
・ヨガマット
　(オンライン：大きめのバスタオルや
　カーペット上で直接ヨガしてもOK)
・飲み物
・動きやすい服装
・フェイスタオル
・お子様連れの方は
　必要であればオモチャやお菓子など
 
＜料金＞
初回体験レッスン $15
※クレジットカード、PayPal、Zelleにて対応
※2回目は以降 1レッスン: $20
※お得な回数券 (4回＆8回) あり
※お得な通い放題券あり
(全レッスン併用可)
STATUS:CONFIRMED
SEQUENCE:0
END:VEVENT
END:VCALENDAR