BEGIN:VCALENDAR
VERSION:2.0
CALSCALE:GREGORIAN
BEGIN:VEVENT
SUMMARY:POSTURAL TRAINING
DTSTART;TZID=Europe/Madrid:20260323T183000
DTEND;TZID=Europe/Madrid:20260323T193000
LOCATION:Sunrise Fit Ibiza
DESCRIPTION: Seguimos mejorando nuestra organización corporal en ambos lados para movernos con más eficiencia al andar, correr, practicar deporte o en la vida diaria. 💪
Será un full body con salsitas picantes: fuerza, coordinación, equilibrio y cardio divertido para sentirte más ágil y potente en cada movimiento. 🔥
STATUS:CONFIRMED
SEQUENCE:0
END:VEVENT
END:VCALENDAR