BEGIN:VCALENDAR
VERSION:2.0
CALSCALE:GREGORIAN
BEGIN:VEVENT
SUMMARY:Yoga unter freiem Himmel
DTSTART;TZID=Europe/Zurich:20250804T174500
DTEND;TZID=Europe/Zurich:20250804T191500
LOCATION:Solothurn
DESCRIPTION: Geniesse den Sommerabend draussen, verbunden mit Himmel und Erde und gut zentriert in deinem Herzen. Wir treffen uns auf dem Sportplatz der Kanti. Alle sind willkommen - mit viel oder wenig Yogaerfahrung.
Bitte eigene Matte und falls vorhanden 1-2 Yogablöcke mitbringen.
Bei Regenwetter praktizieren wir im Studio. Dies ist dann im Stundenplan ersichtlich oder wird bis spätestens 1 Stunde vor der Klasse per E-Mail mitgeteilt.
STATUS:CONFIRMED
SEQUENCE:0
END:VEVENT
END:VCALENDAR