BEGIN:VCALENDAR
VERSION:2.0
CALSCALE:GREGORIAN
BEGIN:VEVENT
SUMMARY:Yin Yoga
DTSTART;TZID=Europe/Zurich:20250804T200000
DTEND;TZID=Europe/Zurich:20250804T211500
LOCATION:Solothurn
DESCRIPTION: Yin Yoga ist ein sehr ruhiger und meditativer Yogastil.
Die Asanas werden vorwiegend im Sitzen oder Liegen ausgeführt und für mehrere Minuten passiv ohne Muskelaktivität gehalten, um die tiefer liegenden Bindegewebsschichten zu erreichen.
Dadurch werden die Energielinien (Meridiane) stimuliert, was den energetischen Fluss des Chi oder Prana (Lebensenergie) verbessert.
Yin Yoga regeneriert, entspannt, beruhigt, der Körper wird flexibler und die Gelenke und Organe werden genährt.
Diese Praxis eignet sich hervorragend als Ergänzung zu aktiven Yogastilen oder Sportarten sowie als Ausgleich zu einem hektischen Alltag. Yin Yoga ist für jeden Körper und für alle Leistungsstufen geeignet.
STATUS:CONFIRMED
SEQUENCE:0
END:VEVENT
END:VCALENDAR