BEGIN:VCALENDAR
VERSION:2.0
CALSCALE:GREGORIAN
BEGIN:VEVENT
SUMMARY:Beginners Yoga Flow - ONLINE
DTSTART;TZID=Europe/London:20260326T180000
DTEND;TZID=Europe/London:20260326T184500
LOCATION:Gym55/Park West Spa, 57 Clydesdale Street, Hamilton, ML3 0DD
DESCRIPTION: 
STATUS:CONFIRMED
SEQUENCE:0
END:VEVENT
END:VCALENDAR