BEGIN:VCALENDAR
VERSION:2.0
CALSCALE:GREGORIAN
BEGIN:VEVENT
SUMMARY:Moshka “freedom “ flow!
DTSTART;TZID=America/New_York:20250704T080000
DTEND;TZID=America/New_York:20250704T090000
LOCATION:Ringgold Rd
DESCRIPTION: Join me on July 4 for a class focused on trade freedom and the joy it brings
STATUS:CONFIRMED
SEQUENCE:0
END:VEVENT
END:VCALENDAR