BEGIN:VCALENDAR
VERSION:2.0
CALSCALE:GREGORIAN
BEGIN:VEVENT
SUMMARY:Study Group für Yoganerds: Yogaphilosophie heute
DTSTART;TZID=Europe/Berlin:20250330T170000
DTEND;TZID=Europe/Berlin:20250330T181500
LOCATION:ONLINE
DESCRIPTION: Lauras Yoganerds Study Group die zweite: »Yogaphilosophie heute« 🎉

Termine:
    - Sonntag, 30.3.2025, 17-18:15 Uhr
    - Mittwoch, 09.04.2025, 10-11:15 Uhr
    - Montag, 28.04.2025, 17-18:15 Uhr
    - Donnerstag, 15.05.2025, 17-18:15 Uhr
    - Mittwoch, 28.05.2025, 10-11:15 Uhr

Es wird Aufzeichnungen von allen Sessions geben!

Was erwartet dich?

- Wir werden herausarbeiten, was Yogaphilosophie heute ist, und wie sie sich in ihrer heutigen Form entwickelt hat
- Wenn du dich fragst, wie du deine (moderne, vielfältige, somatische, inklusive) Praxis mit Aspekten des Yogasutras verbinden kannst und darfst, und wer etwas Ähnliches vor dir getan hat, bist du hier goldrichtig
- Wir machen das nicht im luftleeren Raum, und interpretieren, wie auch immer wir möchten, sondern schauen immer wieder auf Yogageschichte und unsere Vorgänger
- Natürlich lesen wir auch in den Text selbst hinein, sowie in wichtige Kommentare
- Wir schauen uns an, welche besonderen Bewusstseinszustände heutige Praktiken kreieren, und inwiefern wir uns damit auf diesen alten Text beziehen können und dürfen? Sind Flow-Zustände eine Vorstufe zu Samadhi? Und was ist mit Achtsamkeit auf den Körper?
- Können wir in unserer heutigen Yogapraxis wirklich »unser Selbst erkennen« und um welches Selbst handelt es sich dann? Unser verkörpertes Selbst? Und falls nicht, (wie) können wir diesem anderen Selbst über den Körper näher kommen?

- Am Ende dieser Study Group solltest du einen eigenen Bezug dazu haben, wie du mit dem Text umgehen kannst und möchtest und welche deiner Praktiken mit ihm in Verbindung stehen. Du solltest wissen, wie du all das respektvoll tun kannst, und auf welche Vorgänger du dich beziehst

Ich freue mich auf das Eintauchen und den Austausch mit euch!
STATUS:CONFIRMED
SEQUENCE:0
END:VEVENT
END:VCALENDAR