BEGIN:VCALENDAR
VERSION:2.0
CALSCALE:GREGORIAN
BEGIN:VEVENT
SUMMARY:Swasti Yoga met thema: Mentale helderheid en focus
DTSTART;TZID=Europe/Amsterdam:20241219T191500
DTEND;TZID=Europe/Amsterdam:20241219T203000
LOCATION:Laan van Waalhaven 297B, Den Haag
DESCRIPTION: Mentale helderheid en focus: Includeren van meditatie, ademhalingsoefeningen en houdingen die de geest kalmeren en concentratie verbeteren.
STATUS:CONFIRMED
SEQUENCE:0
END:VEVENT
END:VCALENDAR