BEGIN:VCALENDAR
VERSION:2.0
CALSCALE:GREGORIAN
BEGIN:VEVENT
SUMMARY:Taos Ski Valley EMPLOYEE YOGA - (1 hr) @ Seco Yoga
DTSTART;TZID=America/Denver:20220307T174500
DTEND;TZID=America/Denver:20220307T184500
LOCATION:Seco Yoga of Taos
DESCRIPTION: Taos Ski Valley EMPLOYEES ONLY

An ALL LEVELS Yoga class designed to help those of you who work on the mountain stay limber, mobile, strong, and calm during the season.

Avid Yogi? Bring your mat and any props you have.

New to Yoga? Wear comfy clothes (avoid buckles, zippers, buttons) and come as you are.

Some mats and props available to borrow. Don&#039;t forget your PMA.
And be sure to MASK UP!
STATUS:CONFIRMED
SEQUENCE:0
END:VEVENT
END:VCALENDAR