BEGIN:VCALENDAR
VERSION:2.0
CALSCALE:GREGORIAN
BEGIN:VEVENT
SUMMARY:Hip Flow: Vinyasa Yoga (1hr) - $15 @ Seco Yoga of Taos
DTSTART;TZID=America/Denver:20220124T190000
DTEND;TZID=America/Denver:20220124T200000
LOCATION:Seco Yoga of Taos
DESCRIPTION: A vinyasa style yoga practice that focuses on hip mobility and body strengthening. All levels welcome. 

Kari Malen will sub this week. This weekly class is usually taught by Liz Finkelstein.
STATUS:CONFIRMED
SEQUENCE:0
END:VEVENT
END:VCALENDAR