BEGIN:VCALENDAR
VERSION:2.0
CALSCALE:GREGORIAN
BEGIN:VEVENT
SUMMARY:Yoga with Weights (1hr) - $15 @ Seco Yoga of Taos
DTSTART;TZID=America/Denver:20220202T100000
DTEND;TZID=America/Denver:20220202T110000
LOCATION:Zoom
DESCRIPTION: A yoga inspired workout, this class is designed for all levels. 

All movements can be done with or without weights. Followed by a cool down and stretching period for the last 10 minutes of class, join us to build strength and keep your body capable of doing all the things you love to do.
STATUS:CONFIRMED
SEQUENCE:0
END:VEVENT
END:VCALENDAR