BEGIN:VCALENDAR
VERSION:2.0
CALSCALE:GREGORIAN
BEGIN:VEVENT
SUMMARY:Morning Meditation (30min) - Free
DTSTART;TZID=America/Denver:20220530T070000
DTEND;TZID=America/Denver:20220530T073000
LOCATION:Zoom
DESCRIPTION: ...30 minutes to just be...

A subtly guided meditation inspired by Yoga philosophy, MBSR, Vipassana and Zen styles of practice, and life.

FREE
STATUS:CONFIRMED
SEQUENCE:0
END:VEVENT
END:VCALENDAR