BEGIN:VCALENDAR
VERSION:2.0
CALSCALE:GREGORIAN
BEGIN:VEVENT
SUMMARY:Raise Our Vibration Gathering
DTSTART;TZID=Europe/London:20221207T183000
DTEND;TZID=Europe/London:20221207T203000
LOCATION:Lewes High Street
DESCRIPTION: In this special two hour window we will nourish ourselves through breathwork , sound healing and dance. Learning some take home tips on the the healing energy of tuning forks , reflexology and more. This is a pay what you can event please register in advance to secure your spot.
STATUS:CONFIRMED
SEQUENCE:0
END:VEVENT
END:VCALENDAR