BEGIN:VCALENDAR
VERSION:2.0
CALSCALE:GREGORIAN
BEGIN:VEVENT
SUMMARY:Strong Yoga @ Castlefields Community Centre
DTSTART;TZID=Europe/London:20230219T100000
DTEND;TZID=Europe/London:20230219T110000
LOCATION:Castlefields Community Centre, Newpark Street, Shrewsbury, Shropshire SY1 2LD
DESCRIPTION: A fun, dynamic Yoga class. We focus on mindful breathing, flowing movement, and building strength.
STATUS:CONFIRMED
SEQUENCE:0
END:VEVENT
END:VCALENDAR