BEGIN:VCALENDAR
VERSION:2.0
CALSCALE:GREGORIAN
BEGIN:VEVENT
SUMMARY:Yoga @ Leegomery Community Centre, Leegate Ave, Telford TF1 6NA
DTSTART;TZID=Europe/London:20230313T173000
DTEND;TZID=Europe/London:20230313T183000
LOCATION:Leegomery Community Centre, Leegate Avenue, Telford TF1 6NA
DESCRIPTION: Flowing Yoga class. We draw from the Primary Series and work to unite body, mind and breath. Dynamic yet soothing, this class is great for building strength, developing flexibility and cultivating balance.
STATUS:CONFIRMED
SEQUENCE:0
END:VEVENT
END:VCALENDAR