BEGIN:VCALENDAR
VERSION:2.0
CALSCALE:GREGORIAN
BEGIN:VEVENT
SUMMARY:Yoga @ Leegomery Community Centre, Leegate Ave, Telford TF1 6NA
DTSTART;TZID=Europe/London:20230410T173000
DTEND;TZID=Europe/London:20230410T183000
LOCATION:Leegomery Community Centre, Leegate Ave, Telford TF1 6NA
DESCRIPTION: A feel-good, flowing Yoga class. We work to unite the body, mind and breath. Dynamic yet meditative, this class is great for building strength and developing flexibility.
STATUS:CONFIRMED
SEQUENCE:0
END:VEVENT
END:VCALENDAR