BEGIN:VCALENDAR
VERSION:2.0
CALSCALE:GREGORIAN
BEGIN:VEVENT
SUMMARY:Strong Yoga @ Park Lane Centre, Woodside, Telford TF7 5QZ
DTSTART;TZID=Europe/London:20230418T181500
DTEND;TZID=Europe/London:20230418T191500
LOCATION:Park Lane Centre, Woodside, Telford TF7 5QZ
DESCRIPTION: A strong and flowing Yoga class. We work with fluid bodyweight exercises, tied to rhythmic breathing. This class develops strength, stability and mobility throughout the whole body, as well as cultivating flexibility and balance. Suitable for beginners, or those with more experience.
STATUS:CONFIRMED
SEQUENCE:0
END:VEVENT
END:VCALENDAR