BEGIN:VCALENDAR
VERSION:2.0
CALSCALE:GREGORIAN
BEGIN:VEVENT
SUMMARY:Strong Yoga @ Shrewsbury Sports Village, Sundorne Road, Shrewsbury SY1 4RQ
DTSTART;TZID=Europe/London:20230514T100500
DTEND;TZID=Europe/London:20230514T110500
LOCATION:Shrewsbury Sports Village, Sundorne Road, Shrewsbury SY1 4RQ
DESCRIPTION: Strong Yoga class with an emphasis on core strength.
STATUS:CONFIRMED
SEQUENCE:0
END:VEVENT
END:VCALENDAR