BEGIN:VCALENDAR
VERSION:2.0
CALSCALE:GREGORIAN
BEGIN:VEVENT
SUMMARY:Yoga @ Shrewsbury Sports Village, Sundorne Road, Shrewsbury SY1 4RQ
DTSTART;TZID=Europe/London:20230517T100500
DTEND;TZID=Europe/London:20230517T110500
LOCATION:Shrewsbury Sports Village, Sundorne Road, Shrewsbury SY1 4RQ
DESCRIPTION: Feel-good, flowing Yoga class for a happier body and a clearer mind.
STATUS:CONFIRMED
SEQUENCE:0
END:VEVENT
END:VCALENDAR