BEGIN:VCALENDAR
VERSION:2.0
CALSCALE:GREGORIAN
BEGIN:VEVENT
SUMMARY:Ashtanga Beginners Class
DTSTART;TZID=Europe/Amsterdam:20221221T190000
DTEND;TZID=Europe/Amsterdam:20221221T200000
LOCATION:TenzinYoga
DESCRIPTION: Ashtanga is a vigorous, sweat-producing style of yoga that purifies your body from the insinde out. Three points of attention create the foundation for the practice: yoga poses (asanas), yogic breathing techniques, and a specific gazing point for each movement.
STATUS:CONFIRMED
SEQUENCE:0
END:VEVENT
END:VCALENDAR