BEGIN:VCALENDAR
VERSION:2.0
CALSCALE:GREGORIAN
BEGIN:VEVENT
SUMMARY:🌻Voorjaarsvakantie: gesloten | Spring break: closed 🌼
DTSTART;TZID=Europe/Amsterdam:20230228T000000
DTEND;TZID=Europe/Amsterdam:20230228T120000
LOCATION:TenzinYoga
DESCRIPTION: 
STATUS:CONFIRMED
SEQUENCE:0
END:VEVENT
END:VCALENDAR