BEGIN:VCALENDAR
VERSION:2.0
CALSCALE:GREGORIAN
BEGIN:VEVENT
SUMMARY:Zoom Workshop: Full Moon Yin Yoga Ritual
DTSTART;TZID=Europe/London:20230703T180000
DTEND;TZID=Europe/London:20230703T203000
LOCATION:Online (ZOOM)
DESCRIPTION: Let’s come together for a special Yin Yoga full moon ritual on Monday the 3rd July at 6pm. (£5 / bursaries available) 

This month we are harnessing the power of the full moon in Capricorn! 

This 2.5 hour Zoom event combines Yin Yoga, Astrology and journaling to set intentions, release negative patterns and make space for new possibilities in our life.
STATUS:CONFIRMED
SEQUENCE:0
END:VEVENT
END:VCALENDAR