BEGIN:VCALENDAR
VERSION:2.0
CALSCALE:GREGORIAN
BEGIN:VEVENT
SUMMARY:HOT PILATES
DTSTART;TZID=Europe/London:20260626T173000
DTEND;TZID=Europe/London:20260626T183000
LOCATION:4 Russell St, Leek ST13 5JF
DESCRIPTION: Sculpt, strengthen, and sweat. This dynamic mat-based Pilates class is powered by the heat — designed to build deep core strength, improve posture, and tone every muscle. Expect precise movement and that signature glow that only comes from turning up the temperature.
STATUS:CONFIRMED
SEQUENCE:0
END:VEVENT
END:VCALENDAR