BEGIN:VCALENDAR
VERSION:2.0
CALSCALE:GREGORIAN
BEGIN:VEVENT
SUMMARY:HOT YOGA : METHOD XPRESS
DTSTART;TZID=Europe/London:20260502T091500
DTEND;TZID=Europe/London:20260502T101500
LOCATION:4 Russell St, Leek ST13 5JF
DESCRIPTION: The signature class of The House of Glow. A powerful, thermally enhanced yoga method practiced in 43°C heat. Expect a fixed sequence of 28 postures designed to challenge the body, train the mind, and ignite transformation from the inside out. The heat amplifies focus, strength, and flexibility — leaving you in that unmistakable post-class glow.
STATUS:CONFIRMED
SEQUENCE:0
END:VEVENT
END:VCALENDAR