BEGIN:VCALENDAR
VERSION:2.0
CALSCALE:GREGORIAN
BEGIN:VEVENT
SUMMARY:YOGA : ASHTANGA
DTSTART;TZID=Europe/London:20260704T091500
DTEND;TZID=Europe/London:20260704T101500
LOCATION:4 Russell St, Leek ST13 5JF
DESCRIPTION: 
STATUS:CONFIRMED
SEQUENCE:0
END:VEVENT
END:VCALENDAR