BEGIN:VCALENDAR
VERSION:2.0
CALSCALE:GREGORIAN
BEGIN:VEVENT
SUMMARY:HOT YOGA : VINYASA
DTSTART;TZID=Europe/London:20260422T093000
DTEND;TZID=Europe/London:20260422T103000
LOCATION:4 Russell St, Leek ST13 5JF
DESCRIPTION: A flowing, dynamic yoga practice in the heat designed to open, strengthen, and detoxify. Connect breath to movement as you sweat through a sequence that builds flexibility, strength, and focus — leaving your body warm and your mind clear.
STATUS:CONFIRMED
SEQUENCE:0
END:VEVENT
END:VCALENDAR