BEGIN:VCALENDAR
VERSION:2.0
CALSCALE:GREGORIAN
BEGIN:VEVENT
SUMMARY:HOT YOGA : ROCKET
DTSTART;TZID=Europe/London:20260301T140000
DTEND;TZID=Europe/London:20260301T150000
LOCATION:4 Russell St, Leek ST13 5JF
DESCRIPTION: Fast, fun, and fiery. Rocket is an uplifting, dynamic yoga practice that breaks the rules of traditional Ashtanga — offering creative transitions, playful arm balances, and plenty of opportunity to fly. Practiced in the heat, it builds strength, stamina, and serious confidence. Expect sweat, smiles, and that post-class glow that lasts all day.
STATUS:CONFIRMED
SEQUENCE:0
END:VEVENT
END:VCALENDAR