BEGIN:VCALENDAR
VERSION:2.0
CALSCALE:GREGORIAN
BEGIN:VEVENT
SUMMARY:Yin Yan
DTSTART;TZID=Pacific/Auckland:20231218T180000
DTEND;TZID=Pacific/Auckland:20231218T190000
LOCATION:The Yoga Studio
DESCRIPTION: Yin Yan is a revitalising practice. Starting with dynamic movement, building heat and strength in the body, the practice then settles into long gentle yin style holds finding encouraging length and flexibility. Suitable for all levels.
STATUS:CONFIRMED
SEQUENCE:0
END:VEVENT
END:VCALENDAR