BEGIN:VCALENDAR
VERSION:2.0
CALSCALE:GREGORIAN
BEGIN:VEVENT
SUMMARY:Beginners Course 13th Feb - 20th March
DTSTART;TZID=Pacific/Auckland:20230213T193000
DTEND;TZID=Pacific/Auckland:20230213T203000
LOCATION:The Yoga Studio
DESCRIPTION: 
STATUS:CONFIRMED
SEQUENCE:0
END:VEVENT
END:VCALENDAR