BEGIN:VCALENDAR
VERSION:2.0
CALSCALE:GREGORIAN
BEGIN:VEVENT
SUMMARY:Beginners Course 24th July - 28th August
DTSTART;TZID=Pacific/Auckland:20230821T193000
DTEND;TZID=Pacific/Auckland:20230821T203000
LOCATION:The Yoga Studio
DESCRIPTION: Our 6 week beginner course has been carefully curated to offer you a broad and fun introduction to yoga. Learn basic positions and styles in a safe and friendly space.
STATUS:CONFIRMED
SEQUENCE:0
END:VEVENT
END:VCALENDAR