BEGIN:VCALENDAR
VERSION:2.0
CALSCALE:GREGORIAN
BEGIN:VEVENT
SUMMARY:Aerial Intro Course
DTSTART;TZID=Pacific/Auckland:20230812T140000
DTEND;TZID=Pacific/Auckland:20230812T150000
LOCATION:The Yoga Studio
DESCRIPTION: Our 2 week Intro to Aerial course covers basic aerial postures and movement. We get you comfortable using the hammock as a prop to deepen traditional yoga shapes and confident in an inversion. If you are new to yoga we highly recommend that you take this 2 week intro course prior to attending the class.
STATUS:CONFIRMED
SEQUENCE:0
END:VEVENT
END:VCALENDAR